Workbook

Sheet Inputs
A1: Место расположения | B1: Киев
A2: Температурная зона | B2: 1 | D2: ДБН В.2.6- 31: 2006, Приложение Б
A3: Длина, м | B3: 7.97
A4: Ширина, м | B4: 8.43
A5: Кол-во этажей, шт | B5: 2
A6: Площадь этажа, м2 | B6: 60 | D6: Реальная внутрення площадь без учета площади под внутренними стенками
A7: Общая площадь, м2 | B7: =B6*B5 -> 120
A8: Высота 1-го этажа, м | B8: 2.7
A9: Высота 2-го этажа, м | B9: 2.5
A10: Общий объем воздуха в доме, м3 | B10: =B8*B6+B9*B6 -> 312
A11: Средняя температура воздуха за год, С | B11: 8 | D11: ДСТУ-Н Б В.1.1-27:2010, Таблица 2
A12: Длительность отопительного периода в год (tв<8C) | B12: 176 | D12: ДСТУ-Н Б В.1.1-27:2010, Таблица 2
A13: Средняя температура в отопительный период, С | B13: -0.1 | D13: ДСТУ-Н Б В.1.1-27:2010, Таблица 2
A14: Нормативные максимальные теплопотери Emax, кВт*ч/м2 | B14: 141 | D14: ДБН В.2.6- 31 : 2006, Таблица 5
A15: Расчетная температура воздуха в помещении в отопительный период tв, С | B15: 20 | D15: ДБН В.2.6- 31: 2006, Приложение Г, Таблица Г.2
A16: Расчетное значение относительной влажности в помещении в отопительный период, % | B16: 55 | D16: ДБН В.2.6- 31: 2006, Приложение Г, Таблица Г.2
A17: Расчетная температура наружного воздуха в отопительный период tн, С | B17: -22 | D17: ДБН В.2.6- 31: 2006, Приложение Ж
A18: Расчетная температура грунта под фундаментом в отопительный период, С | B18: 5 | D18: Взято из головы
A19: Толщина внешних стен, м | B19: 0.16 | D19: Сама СИП-панель без внешнего фасада, так как по проекту размеры стен даны именно без учета фасада и его утепления
A25: Количество градусо-суток | B25: =(B15-B13)*B12 -> 3537.6
A26: Обогреваемый объем дома, м3 | B26: =(B8+B9+0.3)*B6 -> 330 | D26: 0.3 добавлено, так как между 1м и 2м этажами 0.3м балок в высоту
A27: Общая площадь внешних светопрозрачных конструкций (окон и дверей), м2 | B27: 18
A28: Общая площадь входных дверей

Sheet Calcs
A1: Количество градусо-суток | B1: =(Inputs!B15-Inputs!B13)*Inputs!B12 -> 3537.6
A2: Общая площадь внешних стен с окнами и дверями, м2 | B2: =(Inputs!B3-Inputs!B19+Inputs!B4-Inputs!B19)*2*(Inputs!B8+Inputs!B9+0.3) -> 176.88 | D2: Периметр внешних стен по внутреннему размеру (без толщины стены) на высоту от пола 1-го этажа до потолка 2-го
A3: Обогреваемый объем дома для обогрева, м3 | B3: =(Inputs!B8+Inputs!B9+0.3)*((Inputs!B3-Inputs!B19*2)*(Inputs!B4-Inputs!B19*2)) -> 341.22825 | D3: 0.3 добавлено, так как между 1м и 2м этажами 0.3м балок в высоту
A4: Общая площадь внешних светопрозрачных конструкций (окон и дверей), м2 | B4: 18.39
A5: Общая площадь входных дверей, м2 | B5: =0.9*2 -> 1.8
A6: Общая площадь внешних стен без учета окон и дверей, м2 | B6: =B2-B4-B5+7 -> 163.69 | D6: 7м2 добавил на откосы окон и дверей
A7: Общая площадь пола, м2 | B7: =(Inputs!B3-Inputs!B19*2)*(Inputs!B4-Inputs!B19*2) -> 62.0415
A8: Общая площадь потолка, м2 | B8: =B7 -> 62.0415
A9: Общая площадь внешних ограждающих конструкций, м2 | B9: =B4+B5+B6+B7+B8 -> 307.963
A11: Приведенное сопротивление теплопередачи стен Rc, м2*K/Вт | B11: =Теплопотери!B5 -> 4.0324561
A12: Приведенное сопротивление теплопередачи окон Rо, м2*K/Вт | B12: =Теплопотери!B15 -> 1.43
A13: Приведенное сопротивление теплопередачи пола Rп, м2*K/Вт | B13: =Теплопотери!B28 -> 2.5104167
A14: Приведенное сопротивление теплопередачи крыши Rк, м2*K/Вт | B14: =Теплопотери!B41 -> 4.1474221
A15: Приведенное сопротивление теплопередачи двери Rд, м2*K/Вт | B15: 1.05
A17: Приведенный коеффициент теплопередачи теплоизоляционной оболочки дома, Вт/(м2*К) | B17: =1.13*((B6/B11)+(B4/B12)+(B5/B15)+(B7/B13)+(B8/B14))/B9 -> 0.34799459 | D17: ДСТУ-Н Б А.2.2-5-2007 пункт Д1.5.2
A18: Условный коеффициент теплопередачи дома с учетом вентиляции, Вт/(м2*К) | B18: =0.278*1*0.85 -> 0.2363
A19: Средняя кратность

Sheet Теплопотери
A1: Теплопотери
A2: Теплопроводность гипсокартона, Вт/(м*К) | B2: 0.19 | D2: ДБН В.2.6-31: 2006, Приложение Л
A3: Теплопроводность OSB, Вт/(м*К) | B3: 0.15
A4: Теплопроводность пенопласта, Вт/(м*К) | B4: 0.05 | D4: ДБН В.2.6-31: 2006, Приложение Л
A5: Сопротивление теплопередаче стены, м2*K/Вт | B5: =0.0125/B2+0.025/B3+0.19/B4 -> 4.0324561 | D5: Делим толщину материала в стене на ее теплопроводность
A6: Общая площадь внешних стен, м2 | B6: =Calcs!B6 -> 163.69
A7: Теплопотери на метро-градус | B7: =1/B5 -> 0.24798782
A8: Теплопотери стен | B8: =B6*B7 -> 40.593126
A9: Теплопотери стен в день, кВт | B9: 38.503028
A10: Теплопотери стен в месяц, кВт | B10: 1155.0908
A15: Сопротивление теплопередаче стеклопакета | B15: 1.43
A16: Общая площадь окон | B16: =Calcs!B4 -> 18.39
A17: Теплопотери на метро-градус | B17: 0.6993007
A18: Теплопотери окон | B18: 553.84615
A19: Теплопотери окон в день, кВт | B19: 13.292308
A20: Теплопотери окон в месяц, кВт | B20: 398.76923
A25: Теплопроводность плитки | B25: 0.96 | D25: ДБН В.2.6-31: 2006, Приложение Л
A26: Теплопроводность стяжки с щебнем | B26: 1.86 | D26: ДБН В.2.6-31: 2006, Приложение Л
A27: Теплопроводность ЭППС | B27: 0.04 | D27: ДБН В.2.6-31: 2006, Приложение Л
A28: Сопротивление теплопередаче пола | B28: =0.01/B25+0/15/B26+0.1/B27 -> 2.5104167
A29: Общая площадь пола | B29: 60
A30: Теплопотери на метро-градус | B30: 0.28533734
A31: Теплопотери пола | B31: 256.80361
A32: Теплопотери пола в день, кВт | B32: 6.1632866
A33: Теплопотери пола в месяц, кВт | B33: 184.8986
A38: Теплопроводность гипсокартона | B38: 0.19 | D38: ДБН В.2.6-31: 2006, Приложение Л
A39: Теплопроводность OSB | B39: 0.15 | D39: ДБН В.2.6-31: 2006, Приложение Л
A40: Теплопроводность минваты | B40: 0.049 | D40: ДБН В.2.6-31: 2006, Приложение Л
A41: Сопротивление теплопередаче крыши | B41: =0.0125/B38+0.2/B40 -> 4.1474221
A42: Общая площадь крыши | B42: 60
A43: Теплопотери на метро-градус | B43: 0.20074112
A44: Теплопотери крыши | B44: 529.95656
A45: Теплопотери крыши в день, кВт | B45: 12.718957
A46: Теплопотери крыши в месяц, кВт | B46: 381.56872

Sheet Belarus Input
A1: Город строительства | B1: Киев
A2: Расчетная температура внутреннего воздуха | B2: 20
A3: Температура грунта под фундаментом | B3: 5
A4: Рачетная температура наружного воздуха | B4: -22
A5: Средняя температура наружного воздуха за отопительный период | B5: -0.1
A6: Продолжительность отопительного периода | B6: 176
A7: Площадь наружных стен | B7: =Calcs!B6 -> 163.69
A8: Приведенное сопротивление теплопередаче наружных стен | B8: =Calcs!B11 -> 4.0324561
A9: Общая площадь окон | B9: 18.39
A10: Площадь окон на запад | B10: 1.4
A11: Площадь окон на восток | B11: 4.91
A12: Приведенное сопротивление теплопередаче окон | B12: =Calcs!B12 -> 1.43
A13: Площадь перекрытия (крыши) | B13: =Calcs!B8 -> 62.0415
A14: Приведенное сопротивление теплопередаче перекрытия (крыши) | B14: =Calcs!B14 -> 4.1474221
A15: Площадь пола | B15: =Calcs!B7 -> 62.0415
A16: Приведенное сопротивление теплопередаче пола | B16: =Calcs!B13 -> 2.5104167
A17: Площадь дверей | B17: =Calcs!B5 -> 1.8
A18: Приведенное сопротивление теплопередаче дверей | B18: =Calcs!B15 -> 1.05
A19: Общая площадь внутренних поверхностей наружных ограждающих конструкций | B19: =Calcs!B9 -> 307.963
A20: Площадь жилых помещений | B20: =27.92+11.03+14.77+11.97 -> 65.69
A21: Площадь кухни | B21: 11.9
A22: Отапливаемая площадь | B22: =Calcs!B7*2 -> 124.083
A23: Отапливаемый объем | B23: =Calcs!B3 -> 341.22825

Sheet Belarus calcs
A1: А.1.2 | B1: Градусо-сутки | C1: =Calcs!B1 -> 3537.6
A2: А.1.3 | B2: Расчетный показатель компактности | C2: ='Belarus Input'!B19/'Belarus Input'!B23 -> 0.9025132
A3: А.1.4 | B3: Приведенный коэффициент теплопередачи через наружные ограждающие конструкции | C3: =(('Belarus Input'!B7/'Belarus Input'!B8)+('Belarus Input'!B9/'Belarus Input'!B12)+('Belarus Input'!B13/'Belarus Input'!B14)+('Belarus Input'!B15*C4/'Belarus Input'!B16)+('Belarus Input'!B17/'Belarus Input'!B18))/'Belarus Input'!B19 -> 0.25637138
B4: n | C4: =('Belarus Input'!B2-'Belarus Input'!B3)/('Belarus Input'!B2-'Belarus Input'!B4) -> 0.35714286
A5: A.2.3 | B5: Условный коэффициент теплопередачи здания, с учетом потерь на инфильтрацию и вентиляцию | C5: =(0.28*1*C6*0.95*'Belarus Input'!B23*1.245*1)/'Belarus Input'!B19 -> 0.057069375
A6: А.2.4 | B6: Эффективная кратность воздухообмена здания за отопительный периож | C6: =((C7*(1-C8))/('Belarus Input'!B23*0.95))+0.1 -> 0.15552696 | E6: Инфильтрация через лестничные клетки отсутствует, взял 0.95 вместо 0.85, т.к. Реально внутри дома немного перегородок
A7: А.2.5 | B7: Нормируемый приток воздуха, поступающего при механической вентиляции в квартиру с эл.плитой | C7: 60 | E7: В методике идет грубо 3-х кратная замена воздуха за час. Для моего дома в 120 квадратов, гонять 360 кубов в час - это бред. Для себя я принял 30 кубов на человека в час, т.е. 60
B8: Эффективность рекуператора | C8: 0.7
A9: А.2.9 | B9: Общий коэффициент теплопередачи здания | C9: =C3+C5 -> 0.31344075
A10: А.2.10 | B10: Общие теплопотери здания за отопительный период, МДж | C10: =0.0864*C9*C1*'Belarus Input'!B19 -> 29503.699
A11: А.2.11 | B11: Бытовые теплопоступления за отопительный период, МДж | C11: =0.0864*9*'Belarus Input'!B6*('Belarus Input'!B20+'Belarus Input'!B21) -> 10618.781
A12: А.2.11 | B12: Теплопоступления через окна за отопительный период, кВт*ч | C12: =0.8*0.48*(140*5.14+204*4.91+209*1.4+332*6.94) -> 1658.0813
B13: Теплопоступления через окна за отопительный период, МДж | C13: =C12/0.278 -> 5964.3212
A14: А.2.12 | B14: Расход тепловой энергии на отопление здания, МДж | C14: =(C10-(C11+C13)*0.9*1)*1.05 -> 15307.852
A15: А.2.13 | B15: Расчетный удельный расход тепловой энергии на отопление здания в отопительный период, МДж/м2 | C15: =C14/'Belarus Input'!B22 -> 123.36784
A16: А.2.14 | B16: Отклонение расчетного значения удельного расхода тепловой энергии на отопление и вентиляцию здания от нормативных значений, % | C16: =(C17-C15)/C17*100 -> 62.728748
B17: Нормативное у беларусов, МДж/м2 | C17: 331
B18: Нормативное в Украине, МДж/м2 | C18: =141/0.278 -> 507.19424
B19: Отклонение расчетного значения удельного расхода тепловой энергии на отопление и вентиляцию здания от нормативных значений, % | C19: =(C18-C15)/C18*100 -> 75.676411
